BEGIN:VCALENDAR
VERSION:2.0
PRODID:-//Ihre Sicherheit ist unsere Aufgabe - ECPv6.15.18//NONSGML v1.0//EN
CALSCALE:GREGORIAN
METHOD:PUBLISH
X-WR-CALNAME:Ihre Sicherheit ist unsere Aufgabe
X-ORIGINAL-URL:https://feuerwehr-hohnstorf.de
X-WR-CALDESC:Veranstaltungen für Ihre Sicherheit ist unsere Aufgabe
REFRESH-INTERVAL;VALUE=DURATION:PT1H
X-Robots-Tag:noindex
X-PUBLISHED-TTL:PT1H
BEGIN:VTIMEZONE
TZID:Europe/Helsinki
BEGIN:DAYLIGHT
TZOFFSETFROM:+0200
TZOFFSETTO:+0300
TZNAME:EEST
DTSTART:20250330T010000
END:DAYLIGHT
BEGIN:STANDARD
TZOFFSETFROM:+0300
TZOFFSETTO:+0200
TZNAME:EET
DTSTART:20251026T010000
END:STANDARD
BEGIN:DAYLIGHT
TZOFFSETFROM:+0200
TZOFFSETTO:+0300
TZNAME:EEST
DTSTART:20260329T010000
END:DAYLIGHT
BEGIN:STANDARD
TZOFFSETFROM:+0300
TZOFFSETTO:+0200
TZNAME:EET
DTSTART:20261025T010000
END:STANDARD
BEGIN:DAYLIGHT
TZOFFSETFROM:+0200
TZOFFSETTO:+0300
TZNAME:EEST
DTSTART:20270328T010000
END:DAYLIGHT
BEGIN:STANDARD
TZOFFSETFROM:+0300
TZOFFSETTO:+0200
TZNAME:EET
DTSTART:20271031T010000
END:STANDARD
END:VTIMEZONE
BEGIN:VEVENT
DTSTART;TZID=Europe/Helsinki:20260423T193000
DTEND;TZID=Europe/Helsinki:20260423T213000
DTSTAMP:20260423T014737
CREATED:20260222T153736Z
LAST-MODIFIED:20260222T153736Z
UID:4692-1776972600-1776979800@feuerwehr-hohnstorf.de
SUMMARY:ABC-Zugdienst
DESCRIPTION:Der ABC-Zugdienst bündelt die Zusammenarbeit aller Teileinheiten und stellt die übergeordnete Einsatzorganisation in den Fokus. Hier werden Führungsstrukturen taktische Abläufe sowie das Zusammenspiel von Dekon Technik und weiteren Kräften im Zugrahmen trainiert.
URL:https://feuerwehr-hohnstorf.de/event/abc-zugdienst/
LOCATION:FTZ Scharnebeck
CATEGORIES:ABC-Zug
END:VEVENT
END:VCALENDAR